BEGIN:VCALENDAR
VERSION:2.0
PRODID:-//Nepali Calendar//EN
BEGIN:VEVENT
UID:49054d9eda85d63b275ad88fd5d825ee@nepalicalendar.com
DTSTAMP:20260422T041241Z
DTSTART;VALUE=DATE:20250407
DTEND;VALUE=DATE:20250408
SUMMARY:विश्व स्वास्थ्य दिवस
DESCRIPTION:विश्व स्वास्थ्य दिवस
END:VEVENT
END:VCALENDAR