BEGIN:VCALENDAR
VERSION:2.0
PRODID:-//Nepali Calendar//EN
BEGIN:VEVENT
UID:88061ccfbee6f232a99d031a9887ea08@nepalicalendar.com
DTSTAMP:20260422T060457Z
DTSTART;VALUE=DATE:20250313
DTEND;VALUE=DATE:20250314
SUMMARY:Poornima Vrata
DESCRIPTION:Poornima Vrata
END:VEVENT
END:VCALENDAR