BEGIN:VCALENDAR
VERSION:2.0
PRODID:-//Nepali Calendar//EN
BEGIN:VEVENT
UID:f415bf54adc840e33afa77528f0a2e5b@nepalicalendar.com
DTSTAMP:20260422T060749Z
DTSTART;VALUE=DATE:20250313
DTEND;VALUE=DATE:20250314
SUMMARY:फागु पुर्णिमा (पहाडी जिल्ला)
DESCRIPTION:फागु पुर्णिमा (पहाडी जिल्ला)
END:VEVENT
END:VCALENDAR