BEGIN:VCALENDAR
VERSION:2.0
PRODID:-//Nepali Calendar//EN
BEGIN:VEVENT
UID:adfc222303380d7c6cc4b083510cc7b8@nepalicalendar.com
DTSTAMP:20260422T074509Z
DTSTART;VALUE=DATE:20250210
DTEND;VALUE=DATE:20250211
SUMMARY:सोम प्रदोष व्रत
DESCRIPTION:सोम प्रदोष व्रत
END:VEVENT
END:VCALENDAR