BEGIN:VCALENDAR
VERSION:2.0
PRODID:-//Nepali Calendar//EN
BEGIN:VEVENT
UID:a2b2e13636902a567dcbc6438275f673@nepalicalendar.com
DTSTAMP:20260422T041149Z
DTSTART;VALUE=DATE:20250406
DTEND;VALUE=DATE:20250407
SUMMARY:अन्तर्राष्ट्रिय विकास र शान्तिको लागि खेलकुद दिवस
DESCRIPTION:अन्तर्राष्ट्रिय विकास र शान्तिको लागि खेलकुद दिवस
END:VEVENT
END:VCALENDAR