BEGIN:VCALENDAR
VERSION:2.0
PRODID:-//Nepali Calendar//EN
BEGIN:VEVENT
UID:5b62723148b1dee4c8887ca88ab037db@nepalicalendar.com
DTSTAMP:20260422T041404Z
DTSTART;VALUE=DATE:20250406
DTEND;VALUE=DATE:20250407
SUMMARY:रामनवमी व्रत
DESCRIPTION:रामनवमी व्रत
END:VEVENT
END:VCALENDAR