BEGIN:VCALENDAR
VERSION:2.0
PRODID:-//Nepali Calendar//EN
BEGIN:VEVENT
UID:47526f75c30d3915fe902f190496609f@nepalicalendar.com
DTSTAMP:20260422T023227Z
DTSTART;VALUE=DATE:20250421
DTEND;VALUE=DATE:20250422
SUMMARY:छन्द दिवस
DESCRIPTION:छन्द दिवस
END:VEVENT
END:VCALENDAR