BEGIN:VCALENDAR
VERSION:2.0
PRODID:-//Nepali Calendar//EN
BEGIN:VEVENT
UID:2b7672db13f457cc52388407e6ad7426@nepalicalendar.com
DTSTAMP:20260422T074852Z
DTSTART;VALUE=DATE:20250209
DTEND;VALUE=DATE:20250210
SUMMARY:भिष्म द्वादशी
DESCRIPTION:भिष्म द्वादशी
END:VEVENT
END:VCALENDAR