BEGIN:VCALENDAR
VERSION:2.0
PRODID:-//Nepali Calendar//EN
BEGIN:VEVENT
UID:ce1ea7fa9ec1fcdd53e3d3b12133661b@nepalicalendar.com
DTSTAMP:20260422T041241Z
DTSTART;VALUE=DATE:20250405
DTEND;VALUE=DATE:20250406
SUMMARY:चैते दशैँ
DESCRIPTION:चैते दशैँ
END:VEVENT
END:VCALENDAR