BEGIN:VCALENDAR
VERSION:2.0
PRODID:-//Nepali Calendar//EN
BEGIN:VEVENT
UID:6492d50100081b422c340036e739d2e4@nepalicalendar.com
DTSTAMP:20260422T060744Z
DTSTART;VALUE=DATE:20250310
DTEND;VALUE=DATE:20250311
SUMMARY:आमलकी एकादशी व्रत
DESCRIPTION:आमलकी एकादशी व्रत
END:VEVENT
END:VCALENDAR