BEGIN:VCALENDAR
VERSION:2.0
PRODID:-//Nepali Calendar//EN
BEGIN:VEVENT
UID:34c23c25ebaef1a37a576ad0adb37efa@nepalicalendar.com
DTSTAMP:20260422T074416Z
DTSTART;VALUE=DATE:20250208
DTEND;VALUE=DATE:20250209
SUMMARY:भीमा एकादशी व्रत
DESCRIPTION:भीमा एकादशी व्रत
END:VEVENT
END:VCALENDAR