BEGIN:VCALENDAR
VERSION:2.0
PRODID:-//Nepali Calendar//EN
BEGIN:VEVENT
UID:9ee35707e6a83034b01a5818d7e2f42e@nepalicalendar.com
DTSTAMP:20260422T074242Z
DTSTART;VALUE=DATE:20250206
DTEND;VALUE=DATE:20250207
SUMMARY:द्रोण नवमी
DESCRIPTION:द्रोण नवमी
END:VEVENT
END:VCALENDAR