BEGIN:VCALENDAR
VERSION:2.0
PRODID:-//Nepali Calendar//EN
BEGIN:VEVENT
UID:988fdb78035991660ca272dffb7331cf@nepalicalendar.com
DTSTAMP:20260422T041118Z
DTSTART;VALUE=DATE:20250402
DTEND;VALUE=DATE:20250403
SUMMARY:विश्व अटिजम जागरुकता दिवस
DESCRIPTION:विश्व अटिजम जागरुकता दिवस
END:VEVENT
END:VCALENDAR