BEGIN:VCALENDAR
VERSION:2.0
PRODID:-//Nepali Calendar//EN
BEGIN:VEVENT
UID:001f57bf317a445ac06a6d371e6e9bbd@nepalicalendar.com
DTSTAMP:20260422T060457Z
DTSTART;VALUE=DATE:20250308
DTEND;VALUE=DATE:20250309
SUMMARY:अन्तर्राष्ट्रिय नारी दिवस
DESCRIPTION:अन्तर्राष्ट्रिय नारी दिवस
END:VEVENT
END:VCALENDAR