BEGIN:VCALENDAR
VERSION:2.0
PRODID:-//Nepali Calendar//EN
BEGIN:VEVENT
UID:9ae51c7594f27dac6c34e37493973962@nepalicalendar.com
DTSTAMP:20260422T060400Z
DTSTART;VALUE=DATE:20250307
DTEND;VALUE=DATE:20250308
SUMMARY:गोरखकाली पूजा
DESCRIPTION:गोरखकाली पूजा
END:VEVENT
END:VCALENDAR