BEGIN:VCALENDAR
VERSION:2.0
PRODID:-//Nepali Calendar//EN
BEGIN:VEVENT
UID:ef3abe1ad4dbf4a6e4ac862b5f59618b@nepalicalendar.com
DTSTAMP:20260422T023115Z
DTSTART;VALUE=DATE:20250420
DTEND;VALUE=DATE:20250421
SUMMARY:रविसप्तमी व्रत
DESCRIPTION:रविसप्तमी व्रत
END:VEVENT
END:VCALENDAR