BEGIN:VCALENDAR
VERSION:2.0
PRODID:-//Nepali Calendar//EN
BEGIN:VEVENT
UID:70b76a65cdb688fce1e16c439703725a@nepalicalendar.com
DTSTAMP:20260422T074804Z
DTSTART;VALUE=DATE:20250205
DTEND;VALUE=DATE:20250206
SUMMARY:बुधाष्टमी व्रत
DESCRIPTION:बुधाष्टमी व्रत
END:VEVENT
END:VCALENDAR