BEGIN:VCALENDAR
VERSION:2.0
PRODID:-//Nepali Calendar//EN
BEGIN:VEVENT
UID:53cf878b152912c4a5dfac7639d010c8@nepalicalendar.com
DTSTAMP:20260422T041052Z
DTSTART;VALUE=DATE:20250401
DTEND;VALUE=DATE:20250402
SUMMARY:गौरी व्रत
DESCRIPTION:गौरी व्रत
END:VEVENT
END:VCALENDAR