BEGIN:VCALENDAR
VERSION:2.0
PRODID:-//Nepali Calendar//EN
BEGIN:VEVENT
UID:440b157f01f822b746b9b93fe21b3eb2@nepalicalendar.com
DTSTAMP:20260422T041236Z
DTSTART;VALUE=DATE:20250401
DTEND;VALUE=DATE:20250402
SUMMARY:विश्व मूर्ख दिवस
DESCRIPTION:विश्व मूर्ख दिवस
END:VEVENT
END:VCALENDAR