BEGIN:VCALENDAR
VERSION:2.0
PRODID:-//Nepali Calendar//EN
BEGIN:VEVENT
UID:b07686c9d5e7061261498bba20b4aa43@nepalicalendar.com
DTSTAMP:20260422T074443Z
DTSTART;VALUE=DATE:20250204
DTEND;VALUE=DATE:20250205
SUMMARY:अचला सप्तमी
DESCRIPTION:अचला सप्तमी
END:VEVENT
END:VCALENDAR