BEGIN:VCALENDAR
VERSION:2.0
PRODID:-//Nepali Calendar//EN
BEGIN:VEVENT
UID:dd281aa77a1cc1b69f0c95596094c8e7@nepalicalendar.com
DTSTAMP:20260422T074335Z
DTSTART;VALUE=DATE:20250204
DTEND;VALUE=DATE:20250205
SUMMARY:स्कन्द षष्ठी
DESCRIPTION:स्कन्द षष्ठी
END:VEVENT
END:VCALENDAR