BEGIN:VCALENDAR
VERSION:2.0
PRODID:-//Nepali Calendar//EN
BEGIN:VEVENT
UID:cd8bddee67c5cb84e188da91d8054ee0@nepalicalendar.com
DTSTAMP:20260422T074242Z
DTSTART;VALUE=DATE:20250204
DTEND;VALUE=DATE:20250205
SUMMARY:विश्व क्यान्सर दिवस
DESCRIPTION:विश्व क्यान्सर दिवस
END:VEVENT
END:VCALENDAR