BEGIN:VCALENDAR
VERSION:2.0
PRODID:-//Nepali Calendar//EN
BEGIN:VEVENT
UID:5610531ec62f9e6d3c32cc908532794c@nepalicalendar.com
DTSTAMP:20260422T041516Z
DTSTART;VALUE=DATE:20250331
DTEND;VALUE=DATE:20250401
SUMMARY:मत्स्यनारायण मेला
DESCRIPTION:मत्स्यनारायण मेला
END:VEVENT
END:VCALENDAR