BEGIN:VCALENDAR
VERSION:2.0
PRODID:-//Nepali Calendar//EN
BEGIN:VEVENT
UID:05472559fa3f66f3131f7d8bc1b376c9@nepalicalendar.com
DTSTAMP:20260422T041548Z
DTSTART;VALUE=DATE:20250331
DTEND;VALUE=DATE:20250401
SUMMARY:मत्स्य जयन्ती व्रत
DESCRIPTION:मत्स्य जयन्ती व्रत
END:VEVENT
END:VCALENDAR