BEGIN:VCALENDAR
VERSION:2.0
PRODID:-//Nepali Calendar//EN
BEGIN:VEVENT
UID:18a2d7c10df527a85f57ef1917fc8e7a@nepalicalendar.com
DTSTAMP:20260422T041634Z
DTSTART;VALUE=DATE:20250331
DTEND;VALUE=DATE:20250401
SUMMARY:ईद उल फितर
DESCRIPTION:ईद उल फितर
END:VEVENT
END:VCALENDAR