BEGIN:VCALENDAR
VERSION:2.0
PRODID:-//Nepali Calendar//EN
BEGIN:VEVENT
UID:65082da297ecc63f23e524b655f1c3a2@nepalicalendar.com
DTSTAMP:20260422T023135Z
DTSTART;VALUE=DATE:20250418
DTEND;VALUE=DATE:20250419
SUMMARY:विश्व सम्पदा दिवस
DESCRIPTION:विश्व सम्पदा दिवस
END:VEVENT
END:VCALENDAR