BEGIN:VCALENDAR
VERSION:2.0
PRODID:-//Nepali Calendar//EN
BEGIN:VEVENT
UID:cabb743f36bf4d2617b40d8a1f06cf64@nepalicalendar.com
DTSTAMP:20260422T074605Z
DTSTART;VALUE=DATE:20250203
DTEND;VALUE=DATE:20250204
SUMMARY:सरस्वती पूजा (शिक्षण संस्था बिदा)
DESCRIPTION:सरस्वती पूजा (शिक्षण संस्था बिदा)
END:VEVENT
END:VCALENDAR