BEGIN:VCALENDAR
VERSION:2.0
PRODID:-//Nepali Calendar//EN
BEGIN:VEVENT
UID:825415042b338e1460f83faa6424e434@nepalicalendar.com
DTSTAMP:20260422T074712Z
DTSTART;VALUE=DATE:20250203
DTEND;VALUE=DATE:20250204
SUMMARY:वसन्तपञ्चमी व्रत
DESCRIPTION:वसन्तपञ्चमी व्रत
END:VEVENT
END:VCALENDAR