BEGIN:VCALENDAR
VERSION:2.0
PRODID:-//Nepali Calendar//EN
BEGIN:VEVENT
UID:fd77a8988d745b52447e3821d8d4f8fd@nepalicalendar.com
DTSTAMP:20260422T041349Z
DTSTART;VALUE=DATE:20250330
DTEND;VALUE=DATE:20250331
SUMMARY:ज्योतिष दिवस
DESCRIPTION:ज्योतिष दिवस
END:VEVENT
END:VCALENDAR