BEGIN:VCALENDAR
VERSION:2.0
PRODID:-//Nepali Calendar//EN
BEGIN:VEVENT
UID:a66aa883a2fecde33f997cb229dd3e3e@nepalicalendar.com
DTSTAMP:20260422T041635Z
DTSTART;VALUE=DATE:20250330
DTEND;VALUE=DATE:20250331
SUMMARY:तेल लगाउने र नीमको पात खाने दिन
DESCRIPTION:तेल लगाउने र नीमको पात खाने दिन
END:VEVENT
END:VCALENDAR