BEGIN:VCALENDAR
VERSION:2.0
PRODID:-//Nepali Calendar//EN
BEGIN:VEVENT
UID:f0cc762f03be8a13d9dbf61f49ea55fc@nepalicalendar.com
DTSTAMP:20260422T060728Z
DTSTART;VALUE=DATE:20250304
DTEND;VALUE=DATE:20250305
SUMMARY:माझी समुदायको लदीपूजा
DESCRIPTION:माझी समुदायको लदीपूजा
END:VEVENT
END:VCALENDAR