BEGIN:VCALENDAR
VERSION:2.0
PRODID:-//Nepali Calendar//EN
BEGIN:VEVENT
UID:78794c61bcd492d047642abed91815ec@nepalicalendar.com
DTSTAMP:20260422T060647Z
DTSTART;VALUE=DATE:20250303
DTEND;VALUE=DATE:20250304
SUMMARY:विश्व वन्यजन्तु दिवस
DESCRIPTION:विश्व वन्यजन्तु दिवस
END:VEVENT
END:VCALENDAR