BEGIN:VCALENDAR
VERSION:2.0
PRODID:-//Nepali Calendar//EN
BEGIN:VEVENT
UID:8b5ebe9e667705294c7641a202e118c7@nepalicalendar.com
DTSTAMP:20260422T074810Z
DTSTART;VALUE=DATE:20250202
DTEND;VALUE=DATE:20250203
SUMMARY:विश्व सिमसार दिवस
DESCRIPTION:विश्व सिमसार दिवस
END:VEVENT
END:VCALENDAR