BEGIN:VCALENDAR
VERSION:2.0
PRODID:-//Nepali Calendar//EN
BEGIN:VEVENT
UID:ab5a74a64a20407a896cebbaf3d9b570@nepalicalendar.com
DTSTAMP:20260422T041338Z
DTSTART;VALUE=DATE:20250329
DTEND;VALUE=DATE:20250330
SUMMARY:विश्व नेवाः दिवस
DESCRIPTION:विश्व नेवाः दिवस
END:VEVENT
END:VCALENDAR