BEGIN:VCALENDAR
VERSION:2.0
PRODID:-//Nepali Calendar//EN
BEGIN:VEVENT
UID:6263cab38c5654d160fb0edb8f76ea1c@nepalicalendar.com
DTSTAMP:20260422T041118Z
DTSTART;VALUE=DATE:20250329
DTEND;VALUE=DATE:20250330
SUMMARY:घोडे जात्रा (उपत्यका बिदा)
DESCRIPTION:घोडे जात्रा (उपत्यका बिदा)
END:VEVENT
END:VCALENDAR