BEGIN:VCALENDAR
VERSION:2.0
PRODID:-//Nepali Calendar//EN
BEGIN:VEVENT
UID:3eddff1524a6d663f9f257d03354bb72@nepalicalendar.com
DTSTAMP:20260422T074932Z
DTSTART;VALUE=DATE:20250201
DTEND;VALUE=DATE:20250202
SUMMARY:तिलकुन्द चौथी
DESCRIPTION:तिलकुन्द चौथी
END:VEVENT
END:VCALENDAR