BEGIN:VCALENDAR
VERSION:2.0
PRODID:-//Nepali Calendar//EN
BEGIN:VEVENT
UID:75d2e8e5e196c7b682b9120e437f710f@nepalicalendar.com
DTSTAMP:20260422T023237Z
DTSTART;VALUE=DATE:20250416
DTEND;VALUE=DATE:20250417
SUMMARY:स्वामी शशिधर जन्मजयन्ती
DESCRIPTION:स्वामी शशिधर जन्मजयन्ती
END:VEVENT
END:VCALENDAR