BEGIN:VCALENDAR
VERSION:2.0
PRODID:-//Nepali Calendar//EN
BEGIN:VEVENT
UID:631ee241fd6e6077b88c93bdc9bd6793@nepalicalendar.com
DTSTAMP:20260422T041150Z
DTSTART;VALUE=DATE:20250328
DTEND;VALUE=DATE:20250329
SUMMARY:SEE २०८१ - ऐच्छिक द्वितिय
DESCRIPTION:SEE २०८१ - ऐच्छिक द्वितिय
END:VEVENT
END:VCALENDAR