BEGIN:VCALENDAR
VERSION:2.0
PRODID:-//Nepali Calendar//EN
BEGIN:VEVENT
UID:42c315f59559e25f6f577ee2dc111b5f@nepalicalendar.com
DTSTAMP:20260422T041521Z
DTSTART;VALUE=DATE:20250328
DTEND;VALUE=DATE:20250329
SUMMARY:पाहाँचःह्रे
DESCRIPTION:पाहाँचःह्रे
END:VEVENT
END:VCALENDAR