BEGIN:VCALENDAR
VERSION:2.0
PRODID:-//Nepali Calendar//EN
BEGIN:VEVENT
UID:ba94acc3181829a4caa9740e262ae964@nepalicalendar.com
DTSTAMP:20260422T060600Z
DTSTART;VALUE=DATE:20250301
DTEND;VALUE=DATE:20250302
SUMMARY:शून्य भेदभाव दिवस
DESCRIPTION:शून्य भेदभाव दिवस
END:VEVENT
END:VCALENDAR