BEGIN:VCALENDAR
VERSION:2.0
PRODID:-//Nepali Calendar//EN
BEGIN:VEVENT
UID:9b7791845dd543417549fc4d9aa50c2a@nepalicalendar.com
DTSTAMP:20260422T041650Z
DTSTART;VALUE=DATE:20250327
DTEND;VALUE=DATE:20250328
SUMMARY:प्रदोष व्रत
DESCRIPTION:प्रदोष व्रत
END:VEVENT
END:VCALENDAR