BEGIN:VCALENDAR
VERSION:2.0
PRODID:-//Nepali Calendar//EN
BEGIN:VEVENT
UID:683fe9966d9289b1b242b2d25f0cbfc6@nepalicalendar.com
DTSTAMP:20260422T041816Z
DTSTART;VALUE=DATE:20250327
DTEND;VALUE=DATE:20250328
SUMMARY:SEE २०८१-ऐच्छिक प्रथम
DESCRIPTION:SEE २०८१-ऐच्छिक प्रथम
END:VEVENT
END:VCALENDAR