BEGIN:VCALENDAR
VERSION:2.0
PRODID:-//Nepali Calendar//EN
BEGIN:VEVENT
UID:edea24b3224497f2ad39a29fbe10a2de@nepalicalendar.com
DTSTAMP:20260422T041649Z
DTSTART;VALUE=DATE:20250327
DTEND;VALUE=DATE:20250328
SUMMARY:विश्व रङ्गमञ्च दिवस
DESCRIPTION:विश्व रङ्गमञ्च दिवस
END:VEVENT
END:VCALENDAR