BEGIN:VCALENDAR
VERSION:2.0
PRODID:-//Nepali Calendar//EN
BEGIN:VEVENT
UID:07dc403cbad95a2c8843b38289139efa@nepalicalendar.com
DTSTAMP:20260422T074932Z
DTSTART;VALUE=DATE:20250130
DTEND;VALUE=DATE:20250131
SUMMARY:श्रीबल्लभ जयन्ती
DESCRIPTION:श्रीबल्लभ जयन्ती
END:VEVENT
END:VCALENDAR