BEGIN:VCALENDAR
VERSION:2.0
PRODID:-//Nepali Calendar//EN
BEGIN:VEVENT
UID:0d5f53194b52b8b3423df6376193f371@nepalicalendar.com
DTSTAMP:20260422T074509Z
DTSTART;VALUE=DATE:20250130
DTEND;VALUE=DATE:20250131
SUMMARY:सोनाम ल्होछार
DESCRIPTION:सोनाम ल्होछार
END:VEVENT
END:VCALENDAR