BEGIN:VCALENDAR
VERSION:2.0
PRODID:-//Nepali Calendar//EN
BEGIN:VEVENT
UID:055777ac09df3ffa9b7a47c11cb4a9ed@nepalicalendar.com
DTSTAMP:20260422T060533Z
DTSTART;VALUE=DATE:20250228
DTEND;VALUE=DATE:20250301
SUMMARY:ग्याल्पो ल्होछार
DESCRIPTION:ग्याल्पो ल्होछार
END:VEVENT
END:VCALENDAR