BEGIN:VCALENDAR
VERSION:2.0
PRODID:-//Nepali Calendar//EN
BEGIN:VEVENT
UID:f2200c8b403db5f3a8d68aec73e81a70@nepalicalendar.com
DTSTAMP:20260422T041338Z
DTSTART;VALUE=DATE:20250326
DTEND;VALUE=DATE:20250327
SUMMARY:SEE २०८१-अनिवार्य सामाजिक अध्ययन
DESCRIPTION:SEE २०८१-अनिवार्य सामाजिक अध्ययन
END:VEVENT
END:VCALENDAR