BEGIN:VCALENDAR
VERSION:2.0
PRODID:-//Nepali Calendar//EN
BEGIN:VEVENT
UID:0916fca8f6f06353465809f209d7d8c1@nepalicalendar.com
DTSTAMP:20260422T023448Z
DTSTART;VALUE=DATE:20250415
DTEND;VALUE=DATE:20250416
SUMMARY:विश्व कला दिवस
DESCRIPTION:विश्व कला दिवस
END:VEVENT
END:VCALENDAR