BEGIN:VCALENDAR
VERSION:2.0
PRODID:-//Nepali Calendar//EN
BEGIN:VEVENT
UID:3b1e810641d8ccd1c9bdb91b80d039f5@nepalicalendar.com
DTSTAMP:20260422T074632Z
DTSTART;VALUE=DATE:20250129
DTEND;VALUE=DATE:20250130
SUMMARY:शहीद दिवस
DESCRIPTION:शहीद दिवस
END:VEVENT
END:VCALENDAR