BEGIN:VCALENDAR
VERSION:2.0
PRODID:-//Nepali Calendar//EN
BEGIN:VEVENT
UID:b8d19a9807e78c26922c1dc359f9f369@nepalicalendar.com
DTSTAMP:20260422T060727Z
DTSTART;VALUE=DATE:20250227
DTEND;VALUE=DATE:20250228
SUMMARY:विश्व गैरसरकारी संस्था दिवस
DESCRIPTION:विश्व गैरसरकारी संस्था दिवस
END:VEVENT
END:VCALENDAR